BEGIN:VCALENDAR
VERSION:2.0
PRODID:-//NetAuktion//NONSGML NetAuktion//SV
METHOD:PUBLISH
BEGIN:VEVENT
UID:20260421T104306-346650607-netauktion.se
DTSTAMP:20260421T104306
DTSTART:20091027T013400
DTEND:20091027T013700
SUMMARY:Netauktion objekt 0312-165 Auktionspåminnelse
DESCRIPTION:Länk till objektet du var intresserad av: https://staging.netauktion.se/auktion/produkt/nya-skarp-mm-varde-4400-kr-4
END:VEVENT
END:VCALENDAR
