BEGIN:VCALENDAR
VERSION:2.0
PRODID:-//NetAuktion//NONSGML NetAuktion//SV
METHOD:PUBLISH
BEGIN:VEVENT
UID:20260421T104446-1823498796-netauktion.se
DTSTAMP:20260421T104446
DTSTART:20090731T021300
DTEND:20090731T021600
SUMMARY:Netauktion objekt 0312-194 Auktionspåminnelse
DESCRIPTION:Länk till objektet du var intresserad av: https://staging.netauktion.se/auktion/produkt/skarp-och-scarfs-varde-4200kr
END:VEVENT
END:VCALENDAR
