BEGIN:VCALENDAR
VERSION:2.0
PRODID:-//NetAuktion//NONSGML NetAuktion//SV
METHOD:PUBLISH
BEGIN:VEVENT
UID:20260421T102854-1740036374-netauktion.se
DTSTAMP:20260421T102854
DTSTART:20090731T021200
DTEND:20090731T021500
SUMMARY:Netauktion objekt 0312-195 Auktionspåminnelse
DESCRIPTION:Länk till objektet du var intresserad av: https://staging.netauktion.se/auktion/produkt/scarfs-och-vaska-varde-2700-kr
END:VEVENT
END:VCALENDAR
