BEGIN:VCALENDAR
VERSION:2.0
PRODID:-//NetAuktion//NONSGML NetAuktion//SV
METHOD:PUBLISH
BEGIN:VEVENT
UID:20260421T102840-2058615462-netauktion.se
DTSTAMP:20260421T102840
DTSTART:20090731T022300
DTEND:20090731T022600
SUMMARY:Netauktion objekt 0312-209 Auktionspåminnelse
DESCRIPTION:Länk till objektet du var intresserad av: https://staging.netauktion.se/auktion/produkt/vaskor-scarfs-och-mobilsmycken-varde-4100-kr-6
END:VEVENT
END:VCALENDAR
