BEGIN:VCALENDAR
VERSION:2.0
PRODID:-//NetAuktion//NONSGML NetAuktion//SV
METHOD:PUBLISH
BEGIN:VEVENT
UID:20260421T102834-1202118307-netauktion.se
DTSTAMP:20260421T102834
DTSTART:20090731T022100
DTEND:20090731T022400
SUMMARY:Netauktion objekt 0312-212 Auktionspåminnelse
DESCRIPTION:Länk till objektet du var intresserad av: https://staging.netauktion.se/auktion/produkt/nya-vaskor-mm-varde-3000-kr-3
END:VEVENT
END:VCALENDAR
