BEGIN:VCALENDAR
VERSION:2.0
PRODID:-//NetAuktion//NONSGML NetAuktion//SV
METHOD:PUBLISH
BEGIN:VEVENT
UID:20260421T102643-1526116332-netauktion.se
DTSTAMP:20260421T102643
DTSTART:20080718T014500
DTEND:20080718T014800
SUMMARY:Netauktion objekt 0069-042 Auktionspåminnelse
DESCRIPTION:Länk till objektet du var intresserad av: https://staging.netauktion.se/auktion/produkt/skrivbord-i-vinkel-mm-8
END:VEVENT
END:VCALENDAR
