BEGIN:VCALENDAR
VERSION:2.0
PRODID:-//NetAuktion//NONSGML NetAuktion//SV
METHOD:PUBLISH
BEGIN:VEVENT
UID:20260421T102804-842968622-netauktion.se
DTSTAMP:20260421T102804
DTSTART:20151127T180600
DTEND:20151127T180900
SUMMARY:Netauktion objekt 2190-457 Auktionspåminnelse
DESCRIPTION:Länk till objektet du var intresserad av: https://staging.netauktion.se/auktion/produkt/kastruller-vag-mm-bla-greenpan-5-delar-10
END:VEVENT
END:VCALENDAR
