BEGIN:VCALENDAR
VERSION:2.0
PRODID:-//NetAuktion//NONSGML NetAuktion//SV
METHOD:PUBLISH
BEGIN:VEVENT
UID:20260421T104440-1597461577-netauktion.se
DTSTAMP:20260421T104440
DTSTART:20150828T011100
DTEND:20150828T011400
SUMMARY:Netauktion objekt 2259-001 Auktionspåminnelse
DESCRIPTION:Länk till objektet du var intresserad av: https://staging.netauktion.se/auktion/produkt/verktygsvagn-med-verktyg-5
END:VEVENT
END:VCALENDAR
