BEGIN:VCALENDAR
VERSION:2.0
PRODID:-//NetAuktion//NONSGML NetAuktion//SV
METHOD:PUBLISH
BEGIN:VEVENT
UID:20260421T102833-2058384878-netauktion.se
DTSTAMP:20260421T102833
DTSTART:20150828T011500
DTEND:20150828T011800
SUMMARY:Netauktion objekt 2259-010 Auktionspåminnelse
DESCRIPTION:Länk till objektet du var intresserad av: https://staging.netauktion.se/auktion/produkt/platskap-2-4
END:VEVENT
END:VCALENDAR
