BEGIN:VCALENDAR
VERSION:2.0
PRODID:-//NetAuktion//NONSGML NetAuktion//SV
METHOD:PUBLISH
BEGIN:VEVENT
UID:20260421T104456-1111630916-netauktion.se
DTSTAMP:20260421T104456
DTSTART:20150828T020200
DTEND:20150828T020500
SUMMARY:Netauktion objekt 2035-079 Auktionspåminnelse
DESCRIPTION:Länk till objektet du var intresserad av: https://staging.netauktion.se/auktion/produkt/solflakt-18
END:VEVENT
END:VCALENDAR
